BEGIN:VCALENDAR
VERSION:2.0
PRODID:-//Contratero//ES
CALSCALE:GREGORIAN
METHOD:PUBLISH
BEGIN:VEVENT
UID:PA 58/2018 TA.@contratero.es
DTSTAMP:20260425T172642Z
DTSTART:20180312T235959
DTEND:20180313T005959
SUMMARY:Cierre: Servicio de Digitalización de las Historias Clínic
DESCRIPTION:Servicio de Digitalización de las Historias Clínicas del Hospital General Universitario de Elda\, Departamento de Salud de Elda.\\n\\nOrganismo: Departamento de Salud de Elda. Dirección Económica-Gerencia\\n\\nVer en Contratero: https://contratero.es/contracts/PA 58/2018 TA.
URL:https://contratero.es/contracts/PA 58/2018 TA.
STATUS:CONFIRMED
BEGIN:VALARM
TRIGGER:-P1D
ACTION:DISPLAY
DESCRIPTION:Recordatorio: Servicio de Digitalización de 
END:VALARM
END:VEVENT
END:VCALENDAR